BEGIN:VCALENDAR
VERSION:2.0
PRODID:-//My Blog - ECPv6.15.16.1//NONSGML v1.0//EN
CALSCALE:GREGORIAN
METHOD:PUBLISH
X-WR-CALNAME:My Blog
X-ORIGINAL-URL:https://staging.brandingalchemist.com
X-WR-CALDESC:Events for My Blog
REFRESH-INTERVAL;VALUE=DURATION:PT1H
X-Robots-Tag:noindex
X-PUBLISHED-TTL:PT1H
BEGIN:VTIMEZONE
TZID:America/Chicago
BEGIN:DAYLIGHT
TZOFFSETFROM:-0600
TZOFFSETTO:-0500
TZNAME:CDT
DTSTART:20250309T080000
END:DAYLIGHT
BEGIN:STANDARD
TZOFFSETFROM:-0500
TZOFFSETTO:-0600
TZNAME:CST
DTSTART:20251102T070000
END:STANDARD
BEGIN:DAYLIGHT
TZOFFSETFROM:-0600
TZOFFSETTO:-0500
TZNAME:CDT
DTSTART:20260308T080000
END:DAYLIGHT
BEGIN:STANDARD
TZOFFSETFROM:-0500
TZOFFSETTO:-0600
TZNAME:CST
DTSTART:20261101T070000
END:STANDARD
BEGIN:DAYLIGHT
TZOFFSETFROM:-0600
TZOFFSETTO:-0500
TZNAME:CDT
DTSTART:20270314T080000
END:DAYLIGHT
BEGIN:STANDARD
TZOFFSETFROM:-0500
TZOFFSETTO:-0600
TZNAME:CST
DTSTART:20271107T070000
END:STANDARD
END:VTIMEZONE
BEGIN:VEVENT
DTSTART;VALUE=DATE:20260501
DTEND;VALUE=DATE:20260502
DTSTAMP:20260425T103204
CREATED:20260305T020839Z
LAST-MODIFIED:20260305T020839Z
UID:163-1777593600-1777679999@staging.brandingalchemist.com
SUMMARY:Mother's Day Bloom Bar Pop Up
DESCRIPTION:
URL:https://staging.brandingalchemist.com/event/mothers-day-bloom-bar-pop-up/
LOCATION:LVL29\, Plano\, TX\, United States
END:VEVENT
BEGIN:VEVENT
DTSTART;TZID=America/Chicago:20260502T090000
DTEND;TZID=America/Chicago:20260502T150000
DTSTAMP:20260425T103204
CREATED:20260305T021110Z
LAST-MODIFIED:20260305T021110Z
UID:168-1777712400-1777734000@staging.brandingalchemist.com
SUMMARY:Top Ladies of Distinction Women's Symposium
DESCRIPTION:
URL:https://staging.brandingalchemist.com/event/top-ladies-of-distinction-womens-symposium/
LOCATION:Westide Baptist Church\, 900 W. Bellaire Blvd\, Lewisville\, TX\, 75067\, United States
END:VEVENT
END:VCALENDAR